BEGIN:VCALENDAR
PRODID:-//eluceo/ical//2.0/EN
VERSION:2.0
CALSCALE:GREGORIAN
BEGIN:VEVENT
UID:3fc9a57a6f5daf91456ac62ef2470da6
DTSTAMP:20260423T110426Z
SUMMARY:Aligning infrastructure investment for a net-zero and resilient Asi
 a
DESCRIPTION:How can planning agencies reshape infrastructure to combat clim
 ate change and other environmental challenges in Indonesia and the Philipp
 ines?
DTSTART;TZID=Europe/Paris:20231130T093000
DTEND;TZID=Europe/Paris:20231130T110000
LOCATION:Online
END:VEVENT
BEGIN:VTIMEZONE
TZID:Europe/Paris
BEGIN:STANDARD
DTSTART:20231130T093000
TZNAME:CET
TZOFFSETTO:+0100
TZOFFSETFROM:+0100
END:STANDARD
END:VTIMEZONE
END:VCALENDAR
