BEGIN:VCALENDAR
PRODID:-//eluceo/ical//2.0/EN
VERSION:2.0
CALSCALE:GREGORIAN
BEGIN:VEVENT
UID:9068e3e59c816e3d075a52dbd2aee105
DTSTAMP:20260423T123916Z
SUMMARY:Future-proofing industry: Pioneering the sustainable cooling transi
 tion
DESCRIPTION:Join the "Future-proofing industry: Pioneering the sustainable 
 cooling transition" side-event at COP28
DTSTART;TZID=Asia/Dubai:20231201T120000
DTEND;TZID=Asia/Dubai:20231201T130000
LOCATION:On site Montreal Protocol Pavilion 
END:VEVENT
BEGIN:VTIMEZONE
TZID:Asia/Dubai
BEGIN:STANDARD
DTSTART:20231201T150000
TZNAME:+04
TZOFFSETTO:+0400
TZOFFSETFROM:+0400
END:STANDARD
END:VTIMEZONE
END:VCALENDAR
