BEGIN:VCALENDAR
PRODID:-//eluceo/ical//2.0/EN
VERSION:2.0
CALSCALE:GREGORIAN
BEGIN:VEVENT
UID:d7037a5b10beddab4637487067296ee8
DTSTAMP:20260423T112335Z
SUMMARY:The Climate and Ozone Protection Alliance - Management of Banks of 
 Ozone Depleting Substances and Hydrofluorocarbon Banks
DESCRIPTION:The focus of the side event is to highlight the potential of ma
 naging ODS and HFC banks.
DTSTART;TZID=Asia/Dubai:20231201T151500
DTEND;TZID=Asia/Dubai:20231201T161500
LOCATION:online and on site COP28 and online Ozone to Cool Zone (Montreal P
 rotocol Pavilion)
END:VEVENT
BEGIN:VTIMEZONE
TZID:Asia/Dubai
BEGIN:STANDARD
DTSTART:20231201T181500
TZNAME:+04
TZOFFSETTO:+0400
TZOFFSETFROM:+0400
END:STANDARD
END:VTIMEZONE
END:VCALENDAR
