BEGIN:VCALENDAR
PRODID:-//eluceo/ical//2.0/EN
VERSION:2.0
CALSCALE:GREGORIAN
BEGIN:VEVENT
UID:0174718c50309f654fd63b35b03ff411
DTSTAMP:20260423T110411Z
SUMMARY:The Importance of Green Cooling Fighting the Climate Crisis
DESCRIPTION:This side event will show the significance of the cooling secto
 r for mitigation and adaptation and present the available Green Cooling te
 chnologies. 
DTSTART;TZID=Asia/Dubai:20231201T093000
DTEND;TZID=Asia/Dubai:20231201T103000
LOCATION:online and on site COP28 and Online Ozone to Cool Zone (Montreal P
 rotocol Pavilion)
END:VEVENT
BEGIN:VTIMEZONE
TZID:Asia/Dubai
BEGIN:STANDARD
DTSTART:20231201T123000
TZNAME:+04
TZOFFSETTO:+0400
TZOFFSETFROM:+0400
END:STANDARD
END:VTIMEZONE
END:VCALENDAR
