BEGIN:VCALENDAR
PRODID:-//eluceo/ical//2.0/EN
VERSION:2.0
CALSCALE:GREGORIAN
BEGIN:VEVENT
UID:140234bf09b5d8114c6729fba3d8d76a
DTSTAMP:20260420T142555Z
SUMMARY:Carbon Sourcing for Power-to-X: How can we meet the demand for sust
 ainable value chains?
DESCRIPTION:Government representatives discuss with the private sector and 
 academia how to meet the growing carbon demand for sustainable Power-to-X 
 value chains.
DTSTART;TZID=Europe/Berlin:20240318T170000
DTEND;TZID=Europe/Berlin:20240318T200000
LOCATION:online and on site GIZ Repräsentanz Berlin Reichpietschufer 20
END:VEVENT
BEGIN:VTIMEZONE
TZID:Europe/Berlin
BEGIN:STANDARD
DTSTART:20240318T170000
TZNAME:CET
TZOFFSETTO:+0100
TZOFFSETFROM:+0100
END:STANDARD
END:VTIMEZONE
END:VCALENDAR
