BEGIN:VCALENDAR
PRODID:-//eluceo/ical//2.0/EN
VERSION:2.0
CALSCALE:GREGORIAN
BEGIN:VEVENT
UID:0a1d469b4a828cee1b98da73d358734e
DTSTAMP:20260425T024635Z
SUMMARY:Aufbau der IKI Gender Community of Practice (Seminar 2)
DESCRIPTION:Bei unserer zweiten Veranstaltung im Juni 20204 möchten wir Ih
 nen die Möglichkeit geben\, sich zu treffen und Ihre Erfahrungen auszutau
 schen\, wobei der Schwerpunkt auf der Entwicklung und Arbeit mit Projekt-G
 ender-Aktionsplänen liegt.
DTSTART;TZID=Europe/Berlin:20240627T083000
DTEND;TZID=Europe/Berlin:20240627T103000
LOCATION:nur online besuchbar
ORGANIZER;CN=Internationale Klimaschutzinitiative (IKI):mailto:IKI-Gender@z
 -u-g.org
END:VEVENT
BEGIN:VTIMEZONE
TZID:Europe/Berlin
BEGIN:DAYLIGHT
DTSTART:20240627T083000
TZNAME:CEST
TZOFFSETTO:+0200
TZOFFSETFROM:+0200
END:DAYLIGHT
END:VTIMEZONE
END:VCALENDAR
