BEGIN:VCALENDAR
PRODID:-//eluceo/ical//2.0/EN
VERSION:2.0
CALSCALE:GREGORIAN
BEGIN:VEVENT
UID:a45c070c2285d838b2e2964cdf6d1d89
DTSTAMP:20260423T063857Z
SUMMARY:Conectividad en el Pacífico Oriental: patrimonio de la región\, b
 eneficio para el mundo
DESCRIPTION:Discuss opportunities for building or strengthening a regional 
 connectivity vision with the vision of the “Pacific System”
DTSTART;TZID=America/Bogota:20241021T173000
DTEND;TZID=America/Bogota:20241021T190000
LOCATION:On site Biblioteca Departamental Jorge Garcés Borrero Auditorio J
 orge Isaac Calle 5 #24A-91\, Cali\, Valle del Cauca
END:VEVENT
BEGIN:VTIMEZONE
TZID:America/Bogota
BEGIN:STANDARD
DTSTART:20241021T103000
TZNAME:-05
TZOFFSETTO:-0500
TZOFFSETFROM:-0500
END:STANDARD
END:VTIMEZONE
END:VCALENDAR
