BEGIN:VCALENDAR
PRODID:-//eluceo/ical//2.0/EN
VERSION:2.0
CALSCALE:GREGORIAN
BEGIN:VEVENT
UID:fc9eb0013daf11f101217119b4a27318
DTSTAMP:20260423T044601Z
SUMMARY:NBSAP Day
DESCRIPTION:NBSAP Day is designed to bring together a diverse array of stak
 eholders to showcase progress\, share lessons learned\, and explore innova
 tive solutions for advancing NBSAP implementation.&nbsp\;
DTSTART;TZID=America/Bogota:20241022T080000
DTEND;TZID=America/Bogota:20241022T190000
LOCATION:On site Cali\, Colombia
END:VEVENT
BEGIN:VTIMEZONE
TZID:America/Bogota
BEGIN:STANDARD
DTSTART:20241022T010000
TZNAME:-05
TZOFFSETTO:-0500
TZOFFSETFROM:-0500
END:STANDARD
END:VTIMEZONE
END:VCALENDAR
