BEGIN:VCALENDAR
PRODID:-//eluceo/ical//2.0/EN
VERSION:2.0
CALSCALE:GREGORIAN
BEGIN:VEVENT
UID:2d9510f68fccacdd5a3b8c8a899845dc
DTSTAMP:20260425T163929Z
SUMMARY:Decarbonizing Global Trade: Pathways to Sustainable Supply Chains a
 nd Climate-Resilient Economies
DESCRIPTION:This session will discuss the EU’s Carbon Border Adjustment M
 echanism\, the Trans-Caspian route and global trade policies for decarboni
 sation.
DTSTART;TZID=Asia/Baku:20241114T143000
DTEND;TZID=Asia/Baku:20241114T160000
LOCATION:On site QAZAQSTAN Pavilion (F4) Blue Zone COP29\, Baku Stadium
END:VEVENT
BEGIN:VTIMEZONE
TZID:Asia/Baku
BEGIN:STANDARD
DTSTART:20241114T173000
TZNAME:+04
TZOFFSETTO:+0400
TZOFFSETFROM:+0400
END:STANDARD
END:VTIMEZONE
END:VCALENDAR
