BEGIN:VCALENDAR
PRODID:-//eluceo/ical//2.0/EN
VERSION:2.0
CALSCALE:GREGORIAN
BEGIN:VEVENT
UID:804d8524374c9f056b7de81cb4f2027a
DTSTAMP:20260421T081033Z
SUMMARY:Innovative Research and Engagement Strategies for a Just Transition
  in the Global South
DESCRIPTION:Innovative Research and Engagement Strategies for a Just Transi
 tion in the Global South
DTSTART;TZID=Asia/Baku:20241114T160000
DTEND;TZID=Asia/Baku:20241114T170000
LOCATION:online and on site COP29 ILO Just Transition Pavilion
END:VEVENT
BEGIN:VTIMEZONE
TZID:Asia/Baku
BEGIN:STANDARD
DTSTART:20241114T190000
TZNAME:+04
TZOFFSETTO:+0400
TZOFFSETFROM:+0400
END:STANDARD
END:VTIMEZONE
END:VCALENDAR
