BEGIN:VCALENDAR
PRODID:-//eluceo/ical//2.0/EN
VERSION:2.0
CALSCALE:GREGORIAN
BEGIN:VEVENT
UID:bba054476130d58ccd86945af5cc35e2
DTSTAMP:20260423T032353Z
SUMMARY:IKI Netzwerkabend bei den UNFCCC Subsidiary Body Meetings
DESCRIPTION:Die Internationale Klimaschutzinitiative (IKI) organisiert eine
  Netzwerkveranstaltung am Rande des UNFCCC Subsidiary Body Meetings\, die 
 vom 8. bis 18. Juni 2026 in Bonn stattfindet.
DTSTART;TZID=Europe/Berlin:20260615T180000
DTEND;TZID=Europe/Berlin:20260615T220000
LOCATION:vor Ort Bonn
ORGANIZER;CN=Internationale Klimaschutzinitiative (IKI):mailto:iki-office@z
 -u-g.org
END:VEVENT
BEGIN:VTIMEZONE
TZID:Europe/Berlin
BEGIN:DAYLIGHT
DTSTART:20260615T180000
TZNAME:CEST
TZOFFSETTO:+0200
TZOFFSETFROM:+0200
END:DAYLIGHT
END:VTIMEZONE
END:VCALENDAR
