BEGIN:VCALENDAR
PRODID:-//eluceo/ical//2.0/EN
VERSION:2.0
CALSCALE:GREGORIAN
BEGIN:VEVENT
UID:15df2540bdd05a98d01292f98e659828
DTSTAMP:20260423T063912Z
SUMMARY:IKI Networking Event alongside the UNFCCC Subsidiary Body Meetings
DESCRIPTION:The International Climate Initiative (IKI) is organizing a netw
 orking event on the sidelines of the UNFCCC Subsidiary Body Meeting\, taki
 ng place in Bonn from 8 to 18 June 2026.
DTSTART;TZID=Europe/Berlin:20260615T180000
DTEND;TZID=Europe/Berlin:20260615T220000
LOCATION:On site Bonn
ORGANIZER;CN=International Climate Initiative (IKI):mailto:iki-office@z-u-g
 .org
END:VEVENT
BEGIN:VTIMEZONE
TZID:Europe/Berlin
BEGIN:DAYLIGHT
DTSTART:20260615T180000
TZNAME:CEST
TZOFFSETTO:+0200
TZOFFSETFROM:+0200
END:DAYLIGHT
END:VTIMEZONE
END:VCALENDAR
