BEGIN:VCALENDAR
PRODID:-//eluceo/ical//2.0/EN
VERSION:2.0
CALSCALE:GREGORIAN
BEGIN:VEVENT
UID:447c41b377f4a14a45adf17eb130e430
DTSTAMP:20260420T142149Z
SUMMARY:Digitalization of Public Transport: The Future of Mobility
DESCRIPTION:UNEP’s pioneering ACCESS Project will be featured in the publ
 ic webinar "Digitalizing Public Transport: The Future of Mobility" on 22 A
 pril 2025.
DTSTART;TZID=America/Cancun:20250422T110000
DTEND;TZID=America/Cancun:20250422T130000
LOCATION:Online
END:VEVENT
BEGIN:VTIMEZONE
TZID:America/Cancun
BEGIN:STANDARD
DTSTART:20250422T040000
TZNAME:EST
TZOFFSETTO:-0500
TZOFFSETFROM:-0500
END:STANDARD
END:VTIMEZONE
END:VCALENDAR
