BEGIN:VCALENDAR
PRODID:-//eluceo/ical//2.0/EN
VERSION:2.0
CALSCALE:GREGORIAN
BEGIN:VEVENT
UID:946a245765c17ba0e95d751ea64873c0
DTSTAMP:20260422T025200Z
SUMMARY:From Pledge to Progress: Mobilising Support for Green Industry in E
 merging Markets and Economies
DESCRIPTION:Highlight the Industrial Decarbonization Hubs model as part of 
 a wider toolbox to support global south industry transitions.
DTSTART;TZID=America/Campo_Grande:20251110T100000
DTEND;TZID=America/Campo_Grande:20251110T113000
LOCATION:online and on site COP30 UK Pavilion 
END:VEVENT
BEGIN:VTIMEZONE
TZID:America/Campo_Grande
BEGIN:STANDARD
DTSTART:20251110T050000
TZNAME:-04
TZOFFSETTO:-0400
TZOFFSETFROM:-0400
END:STANDARD
END:VTIMEZONE
END:VCALENDAR
