BEGIN:VCALENDAR
PRODID:-//eluceo/ical//2.0/EN
VERSION:2.0
CALSCALE:GREGORIAN
BEGIN:VEVENT
UID:20b9c7f086edd137fc9795e6c6866c8e
DTSTAMP:20260421T081018Z
SUMMARY:REPLÂNTICA matchmaking rally
DESCRIPTION:Visiting network partners to jointly develop partnerships
DTSTART;TZID=America/Sao_Paulo:20251208T090000
DTEND;TZID=America/Sao_Paulo:20251217T160000
LOCATION:On site The destinations visited during the rally are companies\, 
 NGOs and associations. 
END:VEVENT
BEGIN:VTIMEZONE
TZID:America/Sao_Paulo
BEGIN:STANDARD
DTSTART:20251208T050000
TZNAME:-03
TZOFFSETTO:-0300
TZOFFSETFROM:-0300
END:STANDARD
END:VTIMEZONE
END:VCALENDAR
