BEGIN:VCALENDAR
PRODID:-//eluceo/ical//2.0/EN
VERSION:2.0
CALSCALE:GREGORIAN
BEGIN:VEVENT
UID:3e5efa40da8a1b88318fe560d4cc1b00
DTSTAMP:20260421T142007Z
SUMMARY:IKI Gender Community of Practice #7 – Die Verbindung von Gender u
 nd Klimafinanzierung\, Sitzung A
DESCRIPTION:Das nächste Treffen der IKI Gender Community of Practice befas
 st sich mit der Verbindung von Gender und Klimafinanzierung.
DTSTART;TZID=Europe/Berlin:20260520T160000
DTEND;TZID=Europe/Berlin:20260520T180000
LOCATION:nur online besuchbar
ORGANIZER;CN=Internationale Klimaschutzinitiative (IKI):mailto:IKI-Gender@z
 -u-g.org
END:VEVENT
BEGIN:VTIMEZONE
TZID:Europe/Berlin
BEGIN:DAYLIGHT
DTSTART:20260520T160000
TZNAME:CEST
TZOFFSETTO:+0200
TZOFFSETFROM:+0200
END:DAYLIGHT
END:VTIMEZONE
END:VCALENDAR
