BEGIN:VCALENDAR
PRODID:-//eluceo/ical//2.0/EN
VERSION:2.0
CALSCALE:GREGORIAN
BEGIN:VEVENT
UID:fe415c521f66e46540bbef9ba714e647
DTSTAMP:20260421T160024Z
SUMMARY:IKI Gender Community of Practice #7 – Nexus Gender and Climate Fi
 nance\, session A
DESCRIPTION:The next meeting of the IKI Gender Community of Practice will f
 ocus on the Gender and Climate Finance Nexus.
DTSTART;TZID=Europe/Berlin:20260520T160000
DTEND;TZID=Europe/Berlin:20260520T180000
LOCATION:Online
ORGANIZER;CN=International Climate Initiative (IKI):mailto:IKI-Gender@z-u-g
 .org
END:VEVENT
BEGIN:VTIMEZONE
TZID:Europe/Berlin
BEGIN:DAYLIGHT
DTSTART:20260520T160000
TZNAME:CEST
TZOFFSETTO:+0200
TZOFFSETFROM:+0200
END:DAYLIGHT
END:VTIMEZONE
END:VCALENDAR
