BEGIN:VCALENDAR
PRODID:-//eluceo/ical//2.0/EN
VERSION:2.0
CALSCALE:GREGORIAN
BEGIN:VEVENT
UID:af452af7ce166ef0beb4ce8dce2d7f95
DTSTAMP:20260421T141954Z
SUMMARY:IKI Gender Community of Practice #7 – Die Verbindung von Gender u
 nd Klimafinanzierung\, Sitzung B
DESCRIPTION:Das nächste Treffen der IKI Gender Community of Practice befas
 st sich mit der Verbindung von Gender und Klimafinanzierung.
DTSTART;TZID=Europe/Berlin:20260521T083000
DTEND;TZID=Europe/Berlin:20260521T103000
LOCATION:nur online besuchbar
ORGANIZER;CN=Internationale Klimaschutzinitiative (IKI):mailto:IKI-Gender@z
 -u-g.org
END:VEVENT
BEGIN:VTIMEZONE
TZID:Europe/Berlin
BEGIN:DAYLIGHT
DTSTART:20260521T083000
TZNAME:CEST
TZOFFSETTO:+0200
TZOFFSETFROM:+0200
END:DAYLIGHT
END:VTIMEZONE
END:VCALENDAR
